BEGIN:VCALENDAR
VERSION:2.0
PRODID:-//Quilting On The Line Quilt Guild - ECPv6.15.20//NONSGML v1.0//EN
CALSCALE:GREGORIAN
METHOD:PUBLISH
X-WR-CALNAME:Quilting On The Line Quilt Guild
X-ORIGINAL-URL:https://quiltingontheline.com
X-WR-CALDESC:Events for Quilting On The Line Quilt Guild
REFRESH-INTERVAL;VALUE=DURATION:PT1H
X-Robots-Tag:noindex
X-PUBLISHED-TTL:PT1H
BEGIN:VTIMEZONE
TZID:America/New_York
BEGIN:DAYLIGHT
TZOFFSETFROM:-0500
TZOFFSETTO:-0400
TZNAME:EDT
DTSTART:20240310T070000
END:DAYLIGHT
BEGIN:STANDARD
TZOFFSETFROM:-0400
TZOFFSETTO:-0500
TZNAME:EST
DTSTART:20241103T060000
END:STANDARD
BEGIN:DAYLIGHT
TZOFFSETFROM:-0500
TZOFFSETTO:-0400
TZNAME:EDT
DTSTART:20250309T070000
END:DAYLIGHT
BEGIN:STANDARD
TZOFFSETFROM:-0400
TZOFFSETTO:-0500
TZNAME:EST
DTSTART:20251102T060000
END:STANDARD
BEGIN:DAYLIGHT
TZOFFSETFROM:-0500
TZOFFSETTO:-0400
TZNAME:EDT
DTSTART:20260308T070000
END:DAYLIGHT
BEGIN:STANDARD
TZOFFSETFROM:-0400
TZOFFSETTO:-0500
TZNAME:EST
DTSTART:20261101T060000
END:STANDARD
END:VTIMEZONE
BEGIN:VEVENT
DTSTART;TZID=America/New_York:20251114T100000
DTEND;TZID=America/New_York:20251115T100000
DTSTAMP:20260422T043355
CREATED:20250117T035709Z
LAST-MODIFIED:20250117T181052Z
UID:5768-1763114400-1763200800@quiltingontheline.com
SUMMARY:Quilt Show 2025
DESCRIPTION:Join us for the Quilting On the Line Quilt Show on Fri Nov 14 and Sat Nov 15\, 2025 at Jarrettsville Gardens at the Jarrettsville Volunteer Fire Co. \nDetails will be posted on our Quilt Show 2025 page as they become available. \nFor questions\, contact either of the Quilt Show chairpersons\, Penny Swoyer or Alice Steele.
URL:https://quiltingontheline.com/event/quilt-bingo-event-2/
LOCATION:Jarrettsville Gardens\, 3825 Federal Hill Rd.\, Jarrettsville\, MD\, 21084\, United States
CATEGORIES:Featured,Other Event
END:VEVENT
END:VCALENDAR