BEGIN:VCALENDAR
VERSION:2.0
PRODID:-//Quilting On The Line Quilt Guild - ECPv6.15.20//NONSGML v1.0//EN
CALSCALE:GREGORIAN
METHOD:PUBLISH
X-ORIGINAL-URL:https://quiltingontheline.com
X-WR-CALDESC:Events for Quilting On The Line Quilt Guild
REFRESH-INTERVAL;VALUE=DURATION:PT1H
X-Robots-Tag:noindex
X-PUBLISHED-TTL:PT1H
BEGIN:VTIMEZONE
TZID:America/New_York
BEGIN:DAYLIGHT
TZOFFSETFROM:-0500
TZOFFSETTO:-0400
TZNAME:EDT
DTSTART:20250309T070000
END:DAYLIGHT
BEGIN:STANDARD
TZOFFSETFROM:-0400
TZOFFSETTO:-0500
TZNAME:EST
DTSTART:20251102T060000
END:STANDARD
BEGIN:DAYLIGHT
TZOFFSETFROM:-0500
TZOFFSETTO:-0400
TZNAME:EDT
DTSTART:20260308T070000
END:DAYLIGHT
BEGIN:STANDARD
TZOFFSETFROM:-0400
TZOFFSETTO:-0500
TZNAME:EST
DTSTART:20261101T060000
END:STANDARD
BEGIN:DAYLIGHT
TZOFFSETFROM:-0500
TZOFFSETTO:-0400
TZNAME:EDT
DTSTART:20270314T070000
END:DAYLIGHT
BEGIN:STANDARD
TZOFFSETFROM:-0400
TZOFFSETTO:-0500
TZNAME:EST
DTSTART:20271107T060000
END:STANDARD
END:VTIMEZONE
BEGIN:VEVENT
DTSTART;TZID=America/New_York:20260331T173000
DTEND;TZID=America/New_York:20260331T210000
DTSTAMP:20260421T191420
CREATED:20251230T232358Z
LAST-MODIFIED:20251230T232629Z
UID:6012-1774978200-1774990800@quiltingontheline.com
SUMMARY:Guild Meeting
DESCRIPTION:Meeting Agenda\n5:30 p.m. – 6:30 p.m.  Pre-meeting:\nArrive early if you like\, to sit and sew with friends or spend time socializing. \n6:30 p.m. – Program:\nProgram – To Be Announced \nAround 8:15 p.m. – Show & Tell:\nEvery meeting features a “Show & Tell” time. Bring your finished quilts to display\, with the opportunity to show and talk about it to the guild. We LOVE seeing quilts and especially enjoy the stories that go with the quilts!
URL:https://quiltingontheline.com/event/guild-meeting-2-2-2-3-6-2-2-2-2-2-2-2-2-2-4-3-2-2/
LOCATION:Norrisville Volunteer Fire Company\, 2134 Harkins Rd. Rt. 136\, Pylesville\, MD\, 21132
CATEGORIES:Guild Meetings
END:VEVENT
BEGIN:VEVENT
DTSTART;TZID=America/New_York:20260331T183000
DTEND;TZID=America/New_York:20260331T193000
DTSTAMP:20260421T191420
CREATED:20260326T022232Z
LAST-MODIFIED:20260331T013738Z
UID:6839-1774981800-1774985400@quiltingontheline.com
SUMMARY:Guild Meeting Program
DESCRIPTION:March Demos: \n\n\n\nMaking quilt labels by Melody Degraziano ~ \nEasy diamond blocks by Peg Dougherty ~ \nMaking a flower pin by Mary Bannister ~ \nBasic crochet by Laura Snyder
URL:https://quiltingontheline.com/event/guild-meeting-program-3/
CATEGORIES:Guild Meetings
END:VEVENT
END:VCALENDAR