BEGIN:VCALENDAR
VERSION:2.0
PRODID:-//Quilting On The Line Quilt Guild - ECPv6.15.20//NONSGML v1.0//EN
CALSCALE:GREGORIAN
METHOD:PUBLISH
X-ORIGINAL-URL:https://quiltingontheline.com
X-WR-CALDESC:Events for Quilting On The Line Quilt Guild
REFRESH-INTERVAL;VALUE=DURATION:PT1H
X-Robots-Tag:noindex
X-PUBLISHED-TTL:PT1H
BEGIN:VTIMEZONE
TZID:UTC
BEGIN:STANDARD
TZOFFSETFROM:+0000
TZOFFSETTO:+0000
TZNAME:UTC
DTSTART:20240101T000000
END:STANDARD
END:VTIMEZONE
BEGIN:VEVENT
DTSTART;TZID=UTC:20251114T150000
DTEND;TZID=UTC:20251115T150000
DTSTAMP:20260424T214152
CREATED:20250116T225709Z
LAST-MODIFIED:20250117T131052Z
UID:5768-1763132400-1763218800@quiltingontheline.com
SUMMARY:Quilt Show 2025
DESCRIPTION:Join us for the Quilting On the Line Quilt Show on Fri Nov 14 and Sat Nov 15\, 2025 at Jarrettsville Gardens at the Jarrettsville Volunteer Fire Co. \nDetails will be posted on our Quilt Show 2025 page as they become available. \nFor questions\, contact either of the Quilt Show chairpersons\, Penny Swoyer or Alice Steele.
URL:https://quiltingontheline.com/event/quilt-bingo-event-2/
LOCATION:Jarrettsville Gardens\, 3825 Federal Hill Rd.\, Jarrettsville\, MD\, 21084\, United States
CATEGORIES:Featured,Other Event
END:VEVENT
END:VCALENDAR