BEGIN:VCALENDAR
VERSION:2.0
PRODID:-//Quilting On The Line Quilt Guild - ECPv6.15.20//NONSGML v1.0//EN
CALSCALE:GREGORIAN
METHOD:PUBLISH
X-WR-CALNAME:Quilting On The Line Quilt Guild
X-ORIGINAL-URL:https://quiltingontheline.com
X-WR-CALDESC:Events for Quilting On The Line Quilt Guild
REFRESH-INTERVAL;VALUE=DURATION:PT1H
X-Robots-Tag:noindex
X-PUBLISHED-TTL:PT1H
BEGIN:VTIMEZONE
TZID:America/New_York
BEGIN:DAYLIGHT
TZOFFSETFROM:-0500
TZOFFSETTO:-0400
TZNAME:EDT
DTSTART:20240310T070000
END:DAYLIGHT
BEGIN:STANDARD
TZOFFSETFROM:-0400
TZOFFSETTO:-0500
TZNAME:EST
DTSTART:20241103T060000
END:STANDARD
BEGIN:DAYLIGHT
TZOFFSETFROM:-0500
TZOFFSETTO:-0400
TZNAME:EDT
DTSTART:20250309T070000
END:DAYLIGHT
BEGIN:STANDARD
TZOFFSETFROM:-0400
TZOFFSETTO:-0500
TZNAME:EST
DTSTART:20251102T060000
END:STANDARD
BEGIN:DAYLIGHT
TZOFFSETFROM:-0500
TZOFFSETTO:-0400
TZNAME:EDT
DTSTART:20260308T070000
END:DAYLIGHT
BEGIN:STANDARD
TZOFFSETFROM:-0400
TZOFFSETTO:-0500
TZNAME:EST
DTSTART:20261101T060000
END:STANDARD
END:VTIMEZONE
BEGIN:VEVENT
DTSTART;TZID=America/New_York:20250527T173000
DTEND;TZID=America/New_York:20250527T210000
DTSTAMP:20260422T151022
CREATED:20250116T023039Z
LAST-MODIFIED:20250126T193349Z
UID:5736-1748367000-1748379600@quiltingontheline.com
SUMMARY:Guild Meeting - Lecture by Linda McCuean “My Journey through Long Arm Quilting”
DESCRIPTION:Meeting Agenda\n5:30 p.m. – 6:30 p.m.  Pre-meeting:\nArrive early if you like\, to sit and sew with friends or spend time socializing. \n6:30 p.m. – Program:\nLecture by Linda McCuean “My Journey through Long Arm Quilting”. Linda’s quilts have won top honors at many national and international level quilt shows\, including best-of-show honors. In 2007\, her quilt\, Bella\, was the top winner in the $100\,000 Quilting Challenge and was featured on NBC’s “Today” show. Bella was whole-cloth quilt\, not pieced together\, so the design comes entirely from quilting. Linda is a National Quilting Association certified judge also. \n  \nAround 7:45 p.m. – Business Meeting\nAround 8:15 p.m. – Show & Tell:\nEvery meeting features a “Show & Tell” time. Bring your finished quilts to display\, with the opportunity to show and talk about it to the guild. We LOVE seeing quilts and especially enjoy the stories that go with the quilts!
URL:https://quiltingontheline.com/event/guild-meeting-2-2-2-3-6-2-2-2-2-2-2-2-2-2-3/
LOCATION:Norrisville Volunteer Fire Company\, 2134 Harkins Rd. Rt. 136\, Pylesville\, MD\, 21132
CATEGORIES:Guild Meetings
END:VEVENT
END:VCALENDAR