BEGIN:VCALENDAR
VERSION:2.0
PRODID:-//Quilting On The Line Quilt Guild - ECPv6.15.20//NONSGML v1.0//EN
CALSCALE:GREGORIAN
METHOD:PUBLISH
X-ORIGINAL-URL:https://quiltingontheline.com
X-WR-CALDESC:Events for Quilting On The Line Quilt Guild
REFRESH-INTERVAL;VALUE=DURATION:PT1H
X-Robots-Tag:noindex
X-PUBLISHED-TTL:PT1H
BEGIN:VTIMEZONE
TZID:America/New_York
BEGIN:DAYLIGHT
TZOFFSETFROM:-0500
TZOFFSETTO:-0400
TZNAME:EDT
DTSTART:20240310T070000
END:DAYLIGHT
BEGIN:STANDARD
TZOFFSETFROM:-0400
TZOFFSETTO:-0500
TZNAME:EST
DTSTART:20241103T060000
END:STANDARD
BEGIN:DAYLIGHT
TZOFFSETFROM:-0500
TZOFFSETTO:-0400
TZNAME:EDT
DTSTART:20250309T070000
END:DAYLIGHT
BEGIN:STANDARD
TZOFFSETFROM:-0400
TZOFFSETTO:-0500
TZNAME:EST
DTSTART:20251102T060000
END:STANDARD
BEGIN:DAYLIGHT
TZOFFSETFROM:-0500
TZOFFSETTO:-0400
TZNAME:EDT
DTSTART:20260308T070000
END:DAYLIGHT
BEGIN:STANDARD
TZOFFSETFROM:-0400
TZOFFSETTO:-0500
TZNAME:EST
DTSTART:20261101T060000
END:STANDARD
END:VTIMEZONE
BEGIN:VEVENT
DTSTART;TZID=America/New_York:20250814T090000
DTEND;TZID=America/New_York:20250814T170000
DTSTAMP:20260422T174807
CREATED:20250509T192835Z
LAST-MODIFIED:20250509T195127Z
UID:5894-1755162000-1755190800@quiltingontheline.com
SUMMARY:Shop Hop Bus Trip
DESCRIPTION:The Shop Hop is Coming Soon! Mark Your Calendars! \n\nDate: Thursday\, August 14\, 2025\nPrice: $35.00\nMembers may use their $10 voucher toward the fee netting out at $25.\nAny guest that is not a member pays $35.00\nLeaving from Shrewsbury Walmart at 9:00 a.m.\nThe bus does not wait for anyone upon leaving or at any stop.\nShoppes Visiting: Springwater Quilts; Capitol Quilts; Sew and Sweep; and Patches.\nLunch arrangements have not been set up as of today. Quilters are welcome to pack their own lunch.\nEveryone will be receiving a “goodie” bag.\nWe should return to the Shrewsbury Walmart at approximately 5:00 p.m.\n\nI will have further information regarding a lunch stop and any discounts offered by the shoppes.  \nAny questions\, email Eileen at eshrey@aol.com.
URL:https://quiltingontheline.com/event/shop-hop-bus-trip/
CATEGORIES:Other Event
END:VEVENT
END:VCALENDAR