BEGIN:VCALENDAR
VERSION:2.0
PRODID:-//Quilting On The Line Quilt Guild - ECPv6.15.20//NONSGML v1.0//EN
CALSCALE:GREGORIAN
METHOD:PUBLISH
X-WR-CALNAME:Quilting On The Line Quilt Guild
X-ORIGINAL-URL:https://quiltingontheline.com
X-WR-CALDESC:Events for Quilting On The Line Quilt Guild
REFRESH-INTERVAL;VALUE=DURATION:PT1H
X-Robots-Tag:noindex
X-PUBLISHED-TTL:PT1H
BEGIN:VTIMEZONE
TZID:UTC
BEGIN:STANDARD
TZOFFSETFROM:+0000
TZOFFSETTO:+0000
TZNAME:UTC
DTSTART:20250101T000000
END:STANDARD
END:VTIMEZONE
BEGIN:VEVENT
DTSTART;TZID=UTC:20260710T130000
DTEND;TZID=UTC:20260710T190000
DTSTAMP:20260425T011734
CREATED:20260330T212025Z
LAST-MODIFIED:20260330T212645Z
UID:6926-1783688400-1783710000@quiltingontheline.com
SUMMARY:Firehouse Sew
DESCRIPTION:Firehouse Sew: \nLocation: Norrisville Volunteer Fire Department \nWork on projects & creations with friends!
URL:https://quiltingontheline.com/event/firehouse-sew-7/
CATEGORIES:Firehouse Sew Group
END:VEVENT
BEGIN:VEVENT
DTSTART;TZID=UTC:20260718T130000
DTEND;TZID=UTC:20260718T190000
DTSTAMP:20260425T011734
CREATED:20260410T215358Z
LAST-MODIFIED:20260410T215358Z
UID:7001-1784379600-1784401200@quiltingontheline.com
SUMMARY:Christmas in July Workshop
DESCRIPTION:Freezer paper paper-pieced Tilda Santa
URL:https://quiltingontheline.com/event/christmas-in-july-workshop/
END:VEVENT
BEGIN:VEVENT
DTSTART;TZID=UTC:20260728T213000
DTEND;TZID=UTC:20260729T010000
DTSTAMP:20260425T011734
CREATED:20251230T173325Z
LAST-MODIFIED:20251230T173325Z
UID:6002-1785274200-1785286800@quiltingontheline.com
SUMMARY:Guild Meeting - Summer Picnic Potluck Dinner
DESCRIPTION:Meeting Agenda\n5:30 p.m. – 6:30 p.m.  Pre-meeting:\nArrive early if you like\, to sit and sew with friends or spend time socializing. \n6:30 p.m. – Program:\nSummer Picnic. This month\, we will be sharing a delicious potluck dinner with fun and games! \nThe guild will provide drinks and paper products for the picnic. Members can bring a meat dish\, side dish or dessert of their choice if they desire. If you don’t feel like cooking\, that’s quite alright\, just come because if you don’t\, we will miss you! \nAround 7:45 p.m. – Business Meeting\nAround 8:15 p.m. – Show & Tell:\nEvery meeting features a “Show & Tell” time. Bring your finished quilts to display\, with the opportunity to show and talk about it to the guild. We LOVE seeing quilts and especially enjoy the stories that go with the quilts!
URL:https://quiltingontheline.com/event/guild-meeting-2-2-2-3-6-2-2-2-2-2-2-2-2-2-2-2-2-2-2-2-2/
LOCATION:Norrisville Volunteer Fire Company\, 2134 Harkins Rd. Rt. 136\, Pylesville\, MD\, 21132
CATEGORIES:Guild Meetings
END:VEVENT
BEGIN:VEVENT
DTSTART;TZID=UTC:20260814T040000
DTEND;TZID=UTC:20260814T040000
DTSTAMP:20260425T011734
CREATED:20260410T215700Z
LAST-MODIFIED:20260410T215700Z
UID:7003-1786680000-1786680000@quiltingontheline.com
SUMMARY:Christmas Tree Accu-Cut Workshop
DESCRIPTION:
URL:https://quiltingontheline.com/event/christmas-tree-accu-cut-workshop/
CATEGORIES:Workshops
END:VEVENT
BEGIN:VEVENT
DTSTART;TZID=UTC:20260814T130000
DTEND;TZID=UTC:20260814T190000
DTSTAMP:20260425T011734
CREATED:20260330T210217Z
LAST-MODIFIED:20260410T213818Z
UID:6909-1786712400-1786734000@quiltingontheline.com
SUMMARY:Firehouse Sew CANCELLED
DESCRIPTION:Firehouse Sew: \nLocation: Norrisville Volunteer Fire Department \nWork on projects & creations with friends!
URL:https://quiltingontheline.com/event/firehouse-sew/
CATEGORIES:Firehouse Sew Group
END:VEVENT
BEGIN:VEVENT
DTSTART;TZID=UTC:20260814T190000
DTEND;TZID=UTC:20260815T020000
DTSTAMP:20260425T011734
CREATED:20260330T205456Z
LAST-MODIFIED:20260330T205456Z
UID:6905-1786734000-1786759200@quiltingontheline.com
SUMMARY:QOL Sew in Your PJ's
DESCRIPTION:Enjoy an evening of sewing & creating with friends! \nBring your PJ’s or not & enjoy the night creating beautiful projects! \nRemember\, what happens PJ Night ~ Stays in PJ Night!
URL:https://quiltingontheline.com/event/qol-sew-in-your-pjs/
CATEGORIES:Other Event
END:VEVENT
BEGIN:VEVENT
DTSTART;TZID=UTC:20260822T130000
DTEND;TZID=UTC:20260822T190000
DTSTAMP:20260425T011734
CREATED:20260410T215903Z
LAST-MODIFIED:20260410T215954Z
UID:7005-1787403600-1787425200@quiltingontheline.com
SUMMARY:Andrea Sunflower Workshop
DESCRIPTION:
URL:https://quiltingontheline.com/event/andrea-sunflower-workshop/
CATEGORIES:Workshops
END:VEVENT
BEGIN:VEVENT
DTSTART;TZID=UTC:20260825T213000
DTEND;TZID=UTC:20260826T010000
DTSTAMP:20260425T011734
CREATED:20251230T182916Z
LAST-MODIFIED:20251230T182916Z
UID:6017-1787693400-1787706000@quiltingontheline.com
SUMMARY:Guild Meeting
DESCRIPTION:Meeting Agenda\n5:30 p.m. – 6:30 p.m.  Pre-meeting:\nArrive early if you like\, to sit and sew with friends or spend time socializing. \n6:30 p.m. – Program:\nProgram – To Be Announced \nAround 8:15 p.m. – Show & Tell:\nEvery meeting features a “Show & Tell” time. Bring your finished quilts to display\, with the opportunity to show and talk about it to the guild. We LOVE seeing quilts and especially enjoy the stories that go with the quilts!
URL:https://quiltingontheline.com/event/guild-meeting-2-2-2-3-6-2-2-2-2-2-2-2-2-2-4-3-2-6/
LOCATION:Norrisville Volunteer Fire Company\, 2134 Harkins Rd. Rt. 136\, Pylesville\, MD\, 21132
CATEGORIES:Guild Meetings
END:VEVENT
BEGIN:VEVENT
DTSTART;TZID=UTC:20260911T130000
DTEND;TZID=UTC:20260911T190000
DTSTAMP:20260425T011734
CREATED:20260330T213045Z
LAST-MODIFIED:20260330T213045Z
UID:6929-1789131600-1789153200@quiltingontheline.com
SUMMARY:Firehouse Sew
DESCRIPTION:Firehouse Sew: \nLocation: Norrisville Volunteer Fire Department \nWork on projects & creations with friends!
URL:https://quiltingontheline.com/event/firehouse-sew-6/
CATEGORIES:Firehouse Sew Group
END:VEVENT
BEGIN:VEVENT
DTSTART;TZID=UTC:20260929T213000
DTEND;TZID=UTC:20260930T010000
DTSTAMP:20260425T011734
CREATED:20251230T182954Z
LAST-MODIFIED:20251230T182954Z
UID:6016-1790717400-1790730000@quiltingontheline.com
SUMMARY:Guild Meeting
DESCRIPTION:Meeting Agenda\n5:30 p.m. – 6:30 p.m.  Pre-meeting:\nArrive early if you like\, to sit and sew with friends or spend time socializing. \n6:30 p.m. – Program:\nProgram – To Be Announced \nAround 8:15 p.m. – Show & Tell:\nEvery meeting features a “Show & Tell” time. Bring your finished quilts to display\, with the opportunity to show and talk about it to the guild. We LOVE seeing quilts and especially enjoy the stories that go with the quilts!
URL:https://quiltingontheline.com/event/guild-meeting-2-2-2-3-6-2-2-2-2-2-2-2-2-2-4-3-2-7/
LOCATION:Norrisville Volunteer Fire Company\, 2134 Harkins Rd. Rt. 136\, Pylesville\, MD\, 21132
CATEGORIES:Guild Meetings
END:VEVENT
BEGIN:VEVENT
DTSTART;TZID=UTC:20261009T130000
DTEND;TZID=UTC:20261009T190000
DTSTAMP:20260425T011734
CREATED:20260330T213152Z
LAST-MODIFIED:20260330T213152Z
UID:6931-1791550800-1791572400@quiltingontheline.com
SUMMARY:Firehouse Sew
DESCRIPTION:Firehouse Sew: \nLocation: Norrisville Volunteer Fire Department \nWork on projects & creations with friends!
URL:https://quiltingontheline.com/event/firehouse-sew-8/
CATEGORIES:Firehouse Sew Group
END:VEVENT
BEGIN:VEVENT
DTSTART;TZID=UTC:20261027T213000
DTEND;TZID=UTC:20261028T010000
DTSTAMP:20260425T011734
CREATED:20251230T183034Z
LAST-MODIFIED:20251230T183034Z
UID:6014-1793136600-1793149200@quiltingontheline.com
SUMMARY:Guild Meeting
DESCRIPTION:Meeting Agenda\n5:30 p.m. – 6:30 p.m.  Pre-meeting:\nArrive early if you like\, to sit and sew with friends or spend time socializing. \n6:30 p.m. – Program:\nProgram – To Be Announced \nAround 8:15 p.m. – Show & Tell:\nEvery meeting features a “Show & Tell” time. Bring your finished quilts to display\, with the opportunity to show and talk about it to the guild. We LOVE seeing quilts and especially enjoy the stories that go with the quilts!
URL:https://quiltingontheline.com/event/guild-meeting-2-2-2-3-6-2-2-2-2-2-2-2-2-2-4-3-2/
LOCATION:Norrisville Volunteer Fire Company\, 2134 Harkins Rd. Rt. 136\, Pylesville\, MD\, 21132
CATEGORIES:Guild Meetings
END:VEVENT
BEGIN:VEVENT
DTSTART;TZID=UTC:20261106T230000
DTEND;TZID=UTC:20261106T230000
DTSTAMP:20260425T011734
CREATED:20250116T120602Z
LAST-MODIFIED:20250117T130656Z
UID:5475-1794006000-1794006000@quiltingontheline.com
SUMMARY:Quilt BINGO Night 2026
DESCRIPTION:Join us for our 2026 Quilt Bingo fundraiser! \nSee details here.
URL:https://quiltingontheline.com/event/quilt-bingo-event/
LOCATION:Jarrettsville Gardens\, 3825 Federal Hill Rd.\, Jarrettsville\, MD\, 21084\, United States
CATEGORIES:Featured,Other Event
END:VEVENT
BEGIN:VEVENT
DTSTART;TZID=UTC:20261113T140000
DTEND;TZID=UTC:20261113T200000
DTSTAMP:20260425T011734
CREATED:20260330T213315Z
LAST-MODIFIED:20260330T213315Z
UID:6933-1794578400-1794600000@quiltingontheline.com
SUMMARY:Firehouse Sew
DESCRIPTION:Firehouse Sew: \nLocation: Norrisville Volunteer Fire Department \nWork on projects & creations with friends!
URL:https://quiltingontheline.com/event/firehouse-sew-9/
CATEGORIES:Firehouse Sew Group
END:VEVENT
BEGIN:VEVENT
DTSTART;TZID=UTC:20261124T223000
DTEND;TZID=UTC:20261125T020000
DTSTAMP:20260425T011734
CREATED:20251230T173431Z
LAST-MODIFIED:20251230T173431Z
UID:6004-1795559400-1795572000@quiltingontheline.com
SUMMARY:Guild Meeting - Holiday Party Potluck Dinner
DESCRIPTION:Meeting Agenda\n5:30 p.m. – 6:30 p.m.  Pre-meeting:\nArrive early if you like\, to sit and sew with friends or spend time socializing. \n6:30 p.m. – Program:\nHoliday party. This month\, we will be holding our annual Christmas party with potluck supper\, Christmas Block Exhange\, Mystery Reveals and plent of food!  Please stay tuned for an announcement at the prior month’s meeting or in the newsletter as to what will be provided and what you should bring. \nAround 7:45 p.m. – Business Meeting\nAround 8:15 p.m. – Show & Tell:\nEvery meeting features a “Show & Tell” time. Bring your finished quilts to display\, with the opportunity to show and talk about it to the guild. We LOVE seeing quilts and especially enjoy the stories that go with the quilts!
URL:https://quiltingontheline.com/event/guild-meeting-2-2-2-3-6-2-2-2-2-2-2-2-2-2-2-2-2-2-2-2-2-2-2-2-2/
LOCATION:Norrisville Volunteer Fire Company\, 2134 Harkins Rd. Rt. 136\, Pylesville\, MD\, 21132
CATEGORIES:Guild Meetings
END:VEVENT
END:VCALENDAR