BEGIN:VCALENDAR
VERSION:2.0
PRODID:-//Quilting On The Line Quilt Guild - ECPv6.15.20//NONSGML v1.0//EN
CALSCALE:GREGORIAN
METHOD:PUBLISH
X-WR-CALNAME:Quilting On The Line Quilt Guild
X-ORIGINAL-URL:https://quiltingontheline.com
X-WR-CALDESC:Events for Quilting On The Line Quilt Guild
REFRESH-INTERVAL;VALUE=DURATION:PT1H
X-Robots-Tag:noindex
X-PUBLISHED-TTL:PT1H
BEGIN:VTIMEZONE
TZID:America/New_York
BEGIN:DAYLIGHT
TZOFFSETFROM:-0500
TZOFFSETTO:-0400
TZNAME:EDT
DTSTART:20250309T070000
END:DAYLIGHT
BEGIN:STANDARD
TZOFFSETFROM:-0400
TZOFFSETTO:-0500
TZNAME:EST
DTSTART:20251102T060000
END:STANDARD
BEGIN:DAYLIGHT
TZOFFSETFROM:-0500
TZOFFSETTO:-0400
TZNAME:EDT
DTSTART:20260308T070000
END:DAYLIGHT
BEGIN:STANDARD
TZOFFSETFROM:-0400
TZOFFSETTO:-0500
TZNAME:EST
DTSTART:20261101T060000
END:STANDARD
BEGIN:DAYLIGHT
TZOFFSETFROM:-0500
TZOFFSETTO:-0400
TZNAME:EDT
DTSTART:20270314T070000
END:DAYLIGHT
BEGIN:STANDARD
TZOFFSETFROM:-0400
TZOFFSETTO:-0500
TZNAME:EST
DTSTART:20271107T060000
END:STANDARD
END:VTIMEZONE
BEGIN:VEVENT
DTSTART;TZID=America/New_York:20260814T150000
DTEND;TZID=America/New_York:20260814T220000
DTSTAMP:20260422T185948
CREATED:20260331T005456Z
LAST-MODIFIED:20260331T005456Z
UID:6905-1786719600-1786744800@quiltingontheline.com
SUMMARY:QOL Sew in Your PJ's
DESCRIPTION:Enjoy an evening of sewing & creating with friends! \nBring your PJ’s or not & enjoy the night creating beautiful projects! \nRemember\, what happens PJ Night ~ Stays in PJ Night!
URL:https://quiltingontheline.com/event/qol-sew-in-your-pjs/
LOCATION:MD
CATEGORIES:Other Event
END:VEVENT
BEGIN:VEVENT
DTSTART;TZID=America/New_York:20260822T090000
DTEND;TZID=America/New_York:20260822T150000
DTSTAMP:20260422T185948
CREATED:20260411T015903Z
LAST-MODIFIED:20260411T015954Z
UID:7005-1787389200-1787410800@quiltingontheline.com
SUMMARY:Andrea Sunflower Workshop
DESCRIPTION:
URL:https://quiltingontheline.com/event/andrea-sunflower-workshop/
LOCATION:MD
CATEGORIES:Workshops
END:VEVENT
BEGIN:VEVENT
DTSTART;TZID=America/New_York:20260825T173000
DTEND;TZID=America/New_York:20260825T210000
DTSTAMP:20260422T185948
CREATED:20251230T232916Z
LAST-MODIFIED:20251230T232916Z
UID:6017-1787679000-1787691600@quiltingontheline.com
SUMMARY:Guild Meeting
DESCRIPTION:Meeting Agenda\n5:30 p.m. – 6:30 p.m.  Pre-meeting:\nArrive early if you like\, to sit and sew with friends or spend time socializing. \n6:30 p.m. – Program:\nProgram – To Be Announced \nAround 8:15 p.m. – Show & Tell:\nEvery meeting features a “Show & Tell” time. Bring your finished quilts to display\, with the opportunity to show and talk about it to the guild. We LOVE seeing quilts and especially enjoy the stories that go with the quilts!
URL:https://quiltingontheline.com/event/guild-meeting-2-2-2-3-6-2-2-2-2-2-2-2-2-2-4-3-2-6/
LOCATION:Norrisville Volunteer Fire Company\, 2134 Harkins Rd. Rt. 136\, Pylesville\, MD\, 21132
CATEGORIES:Guild Meetings
END:VEVENT
BEGIN:VEVENT
DTSTART;TZID=America/New_York:20260911T090000
DTEND;TZID=America/New_York:20260911T150000
DTSTAMP:20260422T185948
CREATED:20260331T013045Z
LAST-MODIFIED:20260331T013045Z
UID:6929-1789117200-1789138800@quiltingontheline.com
SUMMARY:Firehouse Sew
DESCRIPTION:Firehouse Sew: \nLocation: Norrisville Volunteer Fire Department \nWork on projects & creations with friends!
URL:https://quiltingontheline.com/event/firehouse-sew-6/
LOCATION:MD
CATEGORIES:Firehouse Sew Group
END:VEVENT
BEGIN:VEVENT
DTSTART;TZID=America/New_York:20260929T173000
DTEND;TZID=America/New_York:20260929T210000
DTSTAMP:20260422T185948
CREATED:20251230T232954Z
LAST-MODIFIED:20251230T232954Z
UID:6016-1790703000-1790715600@quiltingontheline.com
SUMMARY:Guild Meeting
DESCRIPTION:Meeting Agenda\n5:30 p.m. – 6:30 p.m.  Pre-meeting:\nArrive early if you like\, to sit and sew with friends or spend time socializing. \n6:30 p.m. – Program:\nProgram – To Be Announced \nAround 8:15 p.m. – Show & Tell:\nEvery meeting features a “Show & Tell” time. Bring your finished quilts to display\, with the opportunity to show and talk about it to the guild. We LOVE seeing quilts and especially enjoy the stories that go with the quilts!
URL:https://quiltingontheline.com/event/guild-meeting-2-2-2-3-6-2-2-2-2-2-2-2-2-2-4-3-2-7/
LOCATION:Norrisville Volunteer Fire Company\, 2134 Harkins Rd. Rt. 136\, Pylesville\, MD\, 21132
CATEGORIES:Guild Meetings
END:VEVENT
BEGIN:VEVENT
DTSTART;TZID=America/New_York:20261009T090000
DTEND;TZID=America/New_York:20261009T150000
DTSTAMP:20260422T185948
CREATED:20260331T013152Z
LAST-MODIFIED:20260331T013152Z
UID:6931-1791536400-1791558000@quiltingontheline.com
SUMMARY:Firehouse Sew
DESCRIPTION:Firehouse Sew: \nLocation: Norrisville Volunteer Fire Department \nWork on projects & creations with friends!
URL:https://quiltingontheline.com/event/firehouse-sew-8/
LOCATION:MD
CATEGORIES:Firehouse Sew Group
END:VEVENT
BEGIN:VEVENT
DTSTART;TZID=America/New_York:20261027T173000
DTEND;TZID=America/New_York:20261027T210000
DTSTAMP:20260422T185948
CREATED:20251230T233034Z
LAST-MODIFIED:20251230T233034Z
UID:6014-1793122200-1793134800@quiltingontheline.com
SUMMARY:Guild Meeting
DESCRIPTION:Meeting Agenda\n5:30 p.m. – 6:30 p.m.  Pre-meeting:\nArrive early if you like\, to sit and sew with friends or spend time socializing. \n6:30 p.m. – Program:\nProgram – To Be Announced \nAround 8:15 p.m. – Show & Tell:\nEvery meeting features a “Show & Tell” time. Bring your finished quilts to display\, with the opportunity to show and talk about it to the guild. We LOVE seeing quilts and especially enjoy the stories that go with the quilts!
URL:https://quiltingontheline.com/event/guild-meeting-2-2-2-3-6-2-2-2-2-2-2-2-2-2-4-3-2/
LOCATION:Norrisville Volunteer Fire Company\, 2134 Harkins Rd. Rt. 136\, Pylesville\, MD\, 21132
CATEGORIES:Guild Meetings
END:VEVENT
BEGIN:VEVENT
DTSTART;TZID=America/New_York:20261106T180000
DTEND;TZID=America/New_York:20261106T180000
DTSTAMP:20260422T185948
CREATED:20250116T170602Z
LAST-MODIFIED:20250117T180656Z
UID:5475-1793988000-1793988000@quiltingontheline.com
SUMMARY:Quilt BINGO Night 2026
DESCRIPTION:Join us for our 2026 Quilt Bingo fundraiser! \nSee details here.
URL:https://quiltingontheline.com/event/quilt-bingo-event/
LOCATION:Jarrettsville Gardens\, 3825 Federal Hill Rd.\, Jarrettsville\, MD\, 21084\, United States
CATEGORIES:Featured,Other Event
END:VEVENT
BEGIN:VEVENT
DTSTART;TZID=America/New_York:20261113T090000
DTEND;TZID=America/New_York:20261113T150000
DTSTAMP:20260422T185948
CREATED:20260331T013315Z
LAST-MODIFIED:20260331T013315Z
UID:6933-1794560400-1794582000@quiltingontheline.com
SUMMARY:Firehouse Sew
DESCRIPTION:Firehouse Sew: \nLocation: Norrisville Volunteer Fire Department \nWork on projects & creations with friends!
URL:https://quiltingontheline.com/event/firehouse-sew-9/
LOCATION:MD
CATEGORIES:Firehouse Sew Group
END:VEVENT
BEGIN:VEVENT
DTSTART;TZID=America/New_York:20261124T173000
DTEND;TZID=America/New_York:20261124T210000
DTSTAMP:20260422T185948
CREATED:20251230T223431Z
LAST-MODIFIED:20251230T223431Z
UID:6004-1795541400-1795554000@quiltingontheline.com
SUMMARY:Guild Meeting - Holiday Party Potluck Dinner
DESCRIPTION:Meeting Agenda\n5:30 p.m. – 6:30 p.m.  Pre-meeting:\nArrive early if you like\, to sit and sew with friends or spend time socializing. \n6:30 p.m. – Program:\nHoliday party. This month\, we will be holding our annual Christmas party with potluck supper\, Christmas Block Exhange\, Mystery Reveals and plent of food!  Please stay tuned for an announcement at the prior month’s meeting or in the newsletter as to what will be provided and what you should bring. \nAround 7:45 p.m. – Business Meeting\nAround 8:15 p.m. – Show & Tell:\nEvery meeting features a “Show & Tell” time. Bring your finished quilts to display\, with the opportunity to show and talk about it to the guild. We LOVE seeing quilts and especially enjoy the stories that go with the quilts!
URL:https://quiltingontheline.com/event/guild-meeting-2-2-2-3-6-2-2-2-2-2-2-2-2-2-2-2-2-2-2-2-2-2-2-2-2/
LOCATION:Norrisville Volunteer Fire Company\, 2134 Harkins Rd. Rt. 136\, Pylesville\, MD\, 21132
CATEGORIES:Guild Meetings
END:VEVENT
END:VCALENDAR