BEGIN:VCALENDAR
VERSION:2.0
PRODID:-//Quilting On The Line Quilt Guild - ECPv6.15.20//NONSGML v1.0//EN
CALSCALE:GREGORIAN
METHOD:PUBLISH
X-WR-CALNAME:Quilting On The Line Quilt Guild
X-ORIGINAL-URL:https://quiltingontheline.com
X-WR-CALDESC:Events for Quilting On The Line Quilt Guild
REFRESH-INTERVAL;VALUE=DURATION:PT1H
X-Robots-Tag:noindex
X-PUBLISHED-TTL:PT1H
BEGIN:VTIMEZONE
TZID:America/New_York
BEGIN:DAYLIGHT
TZOFFSETFROM:-0500
TZOFFSETTO:-0400
TZNAME:EDT
DTSTART:20240310T070000
END:DAYLIGHT
BEGIN:STANDARD
TZOFFSETFROM:-0400
TZOFFSETTO:-0500
TZNAME:EST
DTSTART:20241103T060000
END:STANDARD
BEGIN:DAYLIGHT
TZOFFSETFROM:-0500
TZOFFSETTO:-0400
TZNAME:EDT
DTSTART:20250309T070000
END:DAYLIGHT
BEGIN:STANDARD
TZOFFSETFROM:-0400
TZOFFSETTO:-0500
TZNAME:EST
DTSTART:20251102T060000
END:STANDARD
BEGIN:DAYLIGHT
TZOFFSETFROM:-0500
TZOFFSETTO:-0400
TZNAME:EDT
DTSTART:20260308T070000
END:DAYLIGHT
BEGIN:STANDARD
TZOFFSETFROM:-0400
TZOFFSETTO:-0500
TZNAME:EST
DTSTART:20261101T060000
END:STANDARD
END:VTIMEZONE
BEGIN:VEVENT
DTSTART;TZID=America/New_York:20250128T173000
DTEND;TZID=America/New_York:20250128T210000
DTSTAMP:20260422T174646
CREATED:20240119T060803Z
LAST-MODIFIED:20250124T050545Z
UID:5371-1738085400-1738098000@quiltingontheline.com
SUMMARY:Guild Meeting - Bingo
DESCRIPTION:Meeting Agenda\n5:30 p.m. – 6:30 p.m.  Pre-meeting:\nArrive early if you like\, to sit and sew with friends or spend time socializing. \n6:30 p.m. – Program:\nJoin us to play our annual member BINGO!\nGet your markers ready! You will be able to choose your own gift at the table! All the prizes will be in clear plastic bags!!! \nAround 7:45 p.m. – Business Meeting\n\nVoting: Bylaw Revisions\nVoting: Bingo Profits Donation \n\n  \nAround 8:15 p.m. – Show & Tell:\nEvery meeting features a “Show & Tell” time. Bring your finished quilts to display\, with the opportunity to show and talk about it to the guild. We LOVE seeing quilts and especially enjoy the stories that go with the quilts!
URL:https://quiltingontheline.com/event/guild-meeting-2-2-2-3-6-2-2-2-2-2-2-2-2-2/
LOCATION:Norrisville Volunteer Fire Company\, 2134 Harkins Rd. Rt. 136\, Pylesville\, MD\, 21132
CATEGORIES:Guild Meetings
END:VEVENT
BEGIN:VEVENT
DTSTART;TZID=America/New_York:20250125T100000
DTEND;TZID=America/New_York:20250125T140000
DTSTAMP:20260422T174646
CREATED:20250117T065055Z
LAST-MODIFIED:20250117T065055Z
UID:5810-1737799200-1737813600@quiltingontheline.com
SUMMARY:Sew Sisters Sewing Bee
DESCRIPTION:Join us for our monthly Sew Sisters sewing bee.  There is no cost\, and it’s open to anyone. You do not need to be a guild member to attend. Join us\, and bring a friend! \nBring your own project\, materials and equipment (such as your sewing machine if you need it for your project\, or whatever else you might need) to sit and sew on whatever project you like.  Extension cords\, ironing boards and irons are already there and available for you to use. Everyone works independently on their own projects and gets to socialize and have fun doing it together! \nBring your lunch. A refrigerator is available to store it. We meet at the Delta Senior Center from 10:00 a.m. to 2:00 p.m. the last Saturday of every month January through October (no meeting in November or December).  In case of inclement weather or for questions\, call Ann Booze at 717-456-5653.
URL:https://quiltingontheline.com/event/sew-sisters-sewing-bee-2-2-2-2-2-2-4-4-3-2/
LOCATION:Delta Senior Center\, 5 Pendyrus St.\, Delta\, PA\, 17314
CATEGORIES:Sew Sisters Sewing Bee
END:VEVENT
END:VCALENDAR