BEGIN:VCALENDAR
VERSION:2.0
PRODID:-//Quilting On The Line Quilt Guild - ECPv6.15.20//NONSGML v1.0//EN
CALSCALE:GREGORIAN
METHOD:PUBLISH
X-WR-CALNAME:Quilting On The Line Quilt Guild
X-ORIGINAL-URL:https://quiltingontheline.com
X-WR-CALDESC:Events for Quilting On The Line Quilt Guild
REFRESH-INTERVAL;VALUE=DURATION:PT1H
X-Robots-Tag:noindex
X-PUBLISHED-TTL:PT1H
BEGIN:VTIMEZONE
TZID:America/New_York
BEGIN:DAYLIGHT
TZOFFSETFROM:-0500
TZOFFSETTO:-0400
TZNAME:EDT
DTSTART:20250309T070000
END:DAYLIGHT
BEGIN:STANDARD
TZOFFSETFROM:-0400
TZOFFSETTO:-0500
TZNAME:EST
DTSTART:20251102T060000
END:STANDARD
BEGIN:DAYLIGHT
TZOFFSETFROM:-0500
TZOFFSETTO:-0400
TZNAME:EDT
DTSTART:20260308T070000
END:DAYLIGHT
BEGIN:STANDARD
TZOFFSETFROM:-0400
TZOFFSETTO:-0500
TZNAME:EST
DTSTART:20261101T060000
END:STANDARD
BEGIN:DAYLIGHT
TZOFFSETFROM:-0500
TZOFFSETTO:-0400
TZNAME:EDT
DTSTART:20270314T070000
END:DAYLIGHT
BEGIN:STANDARD
TZOFFSETFROM:-0400
TZOFFSETTO:-0500
TZNAME:EST
DTSTART:20271107T060000
END:STANDARD
END:VTIMEZONE
BEGIN:VEVENT
DTSTART;TZID=America/New_York:20260710T090000
DTEND;TZID=America/New_York:20260710T150000
DTSTAMP:20260421T224758
CREATED:20260331T012025Z
LAST-MODIFIED:20260331T012645Z
UID:6926-1783674000-1783695600@quiltingontheline.com
SUMMARY:Firehouse Sew
DESCRIPTION:Firehouse Sew: \nLocation: Norrisville Volunteer Fire Department \nWork on projects & creations with friends!
URL:https://quiltingontheline.com/event/firehouse-sew-7/
CATEGORIES:Firehouse Sew Group
END:VEVENT
BEGIN:VEVENT
DTSTART;TZID=America/New_York:20260718T090000
DTEND;TZID=America/New_York:20260718T150000
DTSTAMP:20260421T224758
CREATED:20260411T015358Z
LAST-MODIFIED:20260411T015358Z
UID:7001-1784365200-1784386800@quiltingontheline.com
SUMMARY:Christmas in July Workshop
DESCRIPTION:Freezer paper paper-pieced Tilda Santa
URL:https://quiltingontheline.com/event/christmas-in-july-workshop/
END:VEVENT
BEGIN:VEVENT
DTSTART;TZID=America/New_York:20260728T173000
DTEND;TZID=America/New_York:20260728T210000
DTSTAMP:20260421T224758
CREATED:20251230T223325Z
LAST-MODIFIED:20251230T223325Z
UID:6002-1785259800-1785272400@quiltingontheline.com
SUMMARY:Guild Meeting - Summer Picnic Potluck Dinner
DESCRIPTION:Meeting Agenda\n5:30 p.m. – 6:30 p.m.  Pre-meeting:\nArrive early if you like\, to sit and sew with friends or spend time socializing. \n6:30 p.m. – Program:\nSummer Picnic. This month\, we will be sharing a delicious potluck dinner with fun and games! \nThe guild will provide drinks and paper products for the picnic. Members can bring a meat dish\, side dish or dessert of their choice if they desire. If you don’t feel like cooking\, that’s quite alright\, just come because if you don’t\, we will miss you! \nAround 7:45 p.m. – Business Meeting\nAround 8:15 p.m. – Show & Tell:\nEvery meeting features a “Show & Tell” time. Bring your finished quilts to display\, with the opportunity to show and talk about it to the guild. We LOVE seeing quilts and especially enjoy the stories that go with the quilts!
URL:https://quiltingontheline.com/event/guild-meeting-2-2-2-3-6-2-2-2-2-2-2-2-2-2-2-2-2-2-2-2-2/
LOCATION:Norrisville Volunteer Fire Company\, 2134 Harkins Rd. Rt. 136\, Pylesville\, MD\, 21132
CATEGORIES:Guild Meetings
END:VEVENT
END:VCALENDAR