BEGIN:VCALENDAR
VERSION:2.0
PRODID:-//Quilting On The Line Quilt Guild - ECPv6.15.20//NONSGML v1.0//EN
CALSCALE:GREGORIAN
METHOD:PUBLISH
X-WR-CALNAME:Quilting On The Line Quilt Guild
X-ORIGINAL-URL:https://quiltingontheline.com
X-WR-CALDESC:Events for Quilting On The Line Quilt Guild
REFRESH-INTERVAL;VALUE=DURATION:PT1H
X-Robots-Tag:noindex
X-PUBLISHED-TTL:PT1H
BEGIN:VTIMEZONE
TZID:America/New_York
BEGIN:DAYLIGHT
TZOFFSETFROM:-0500
TZOFFSETTO:-0400
TZNAME:EDT
DTSTART:20250309T070000
END:DAYLIGHT
BEGIN:STANDARD
TZOFFSETFROM:-0400
TZOFFSETTO:-0500
TZNAME:EST
DTSTART:20251102T060000
END:STANDARD
BEGIN:DAYLIGHT
TZOFFSETFROM:-0500
TZOFFSETTO:-0400
TZNAME:EDT
DTSTART:20260308T070000
END:DAYLIGHT
BEGIN:STANDARD
TZOFFSETFROM:-0400
TZOFFSETTO:-0500
TZNAME:EST
DTSTART:20261101T060000
END:STANDARD
BEGIN:DAYLIGHT
TZOFFSETFROM:-0500
TZOFFSETTO:-0400
TZNAME:EDT
DTSTART:20270314T070000
END:DAYLIGHT
BEGIN:STANDARD
TZOFFSETFROM:-0400
TZOFFSETTO:-0500
TZNAME:EST
DTSTART:20271107T060000
END:STANDARD
END:VTIMEZONE
BEGIN:VEVENT
DTSTART;TZID=America/New_York:20260814T000000
DTEND;TZID=America/New_York:20260814T000000
DTSTAMP:20260422T002303
CREATED:20260411T015700Z
LAST-MODIFIED:20260411T015700Z
UID:7003-1786665600-1786665600@quiltingontheline.com
SUMMARY:Christmas Tree Accu-Cut Workshop
DESCRIPTION:
URL:https://quiltingontheline.com/event/christmas-tree-accu-cut-workshop/
CATEGORIES:Workshops
END:VEVENT
BEGIN:VEVENT
DTSTART;TZID=America/New_York:20260814T090000
DTEND;TZID=America/New_York:20260814T150000
DTSTAMP:20260422T002303
CREATED:20260331T010217Z
LAST-MODIFIED:20260411T013818Z
UID:6909-1786698000-1786719600@quiltingontheline.com
SUMMARY:Firehouse Sew CANCELLED
DESCRIPTION:Firehouse Sew: \nLocation: Norrisville Volunteer Fire Department \nWork on projects & creations with friends!
URL:https://quiltingontheline.com/event/firehouse-sew/
CATEGORIES:Firehouse Sew Group
END:VEVENT
BEGIN:VEVENT
DTSTART;TZID=America/New_York:20260814T150000
DTEND;TZID=America/New_York:20260814T220000
DTSTAMP:20260422T002303
CREATED:20260331T005456Z
LAST-MODIFIED:20260331T005456Z
UID:6905-1786719600-1786744800@quiltingontheline.com
SUMMARY:QOL Sew in Your PJ's
DESCRIPTION:Enjoy an evening of sewing & creating with friends! \nBring your PJ’s or not & enjoy the night creating beautiful projects! \nRemember\, what happens PJ Night ~ Stays in PJ Night!
URL:https://quiltingontheline.com/event/qol-sew-in-your-pjs/
CATEGORIES:Other Event
END:VEVENT
BEGIN:VEVENT
DTSTART;TZID=America/New_York:20260822T090000
DTEND;TZID=America/New_York:20260822T150000
DTSTAMP:20260422T002303
CREATED:20260411T015903Z
LAST-MODIFIED:20260411T015954Z
UID:7005-1787389200-1787410800@quiltingontheline.com
SUMMARY:Andrea Sunflower Workshop
DESCRIPTION:
URL:https://quiltingontheline.com/event/andrea-sunflower-workshop/
CATEGORIES:Workshops
END:VEVENT
BEGIN:VEVENT
DTSTART;TZID=America/New_York:20260825T173000
DTEND;TZID=America/New_York:20260825T210000
DTSTAMP:20260422T002303
CREATED:20251230T232916Z
LAST-MODIFIED:20251230T232916Z
UID:6017-1787679000-1787691600@quiltingontheline.com
SUMMARY:Guild Meeting
DESCRIPTION:Meeting Agenda\n5:30 p.m. – 6:30 p.m.  Pre-meeting:\nArrive early if you like\, to sit and sew with friends or spend time socializing. \n6:30 p.m. – Program:\nProgram – To Be Announced \nAround 8:15 p.m. – Show & Tell:\nEvery meeting features a “Show & Tell” time. Bring your finished quilts to display\, with the opportunity to show and talk about it to the guild. We LOVE seeing quilts and especially enjoy the stories that go with the quilts!
URL:https://quiltingontheline.com/event/guild-meeting-2-2-2-3-6-2-2-2-2-2-2-2-2-2-4-3-2-6/
LOCATION:Norrisville Volunteer Fire Company\, 2134 Harkins Rd. Rt. 136\, Pylesville\, MD\, 21132
CATEGORIES:Guild Meetings
END:VEVENT
END:VCALENDAR